BEGIN:VCALENDAR
VERSION:2.0
PRODID:-//To B Strong Yoga - ECPv6.15.20//NONSGML v1.0//EN
CALSCALE:GREGORIAN
METHOD:PUBLISH
X-WR-CALNAME:To B Strong Yoga
X-ORIGINAL-URL:https://www.tobstrong.com
X-WR-CALDESC:Events for To B Strong Yoga
REFRESH-INTERVAL;VALUE=DURATION:PT1H
X-Robots-Tag:noindex
X-PUBLISHED-TTL:PT1H
BEGIN:VTIMEZONE
TZID:America/Los_Angeles
BEGIN:DAYLIGHT
TZOFFSETFROM:-0800
TZOFFSETTO:-0700
TZNAME:PDT
DTSTART:20240310T100000
END:DAYLIGHT
BEGIN:STANDARD
TZOFFSETFROM:-0700
TZOFFSETTO:-0800
TZNAME:PST
DTSTART:20241103T090000
END:STANDARD
BEGIN:DAYLIGHT
TZOFFSETFROM:-0800
TZOFFSETTO:-0700
TZNAME:PDT
DTSTART:20250309T100000
END:DAYLIGHT
BEGIN:STANDARD
TZOFFSETFROM:-0700
TZOFFSETTO:-0800
TZNAME:PST
DTSTART:20251102T090000
END:STANDARD
BEGIN:DAYLIGHT
TZOFFSETFROM:-0800
TZOFFSETTO:-0700
TZNAME:PDT
DTSTART:20260308T100000
END:DAYLIGHT
BEGIN:STANDARD
TZOFFSETFROM:-0700
TZOFFSETTO:-0800
TZNAME:PST
DTSTART:20261101T090000
END:STANDARD
END:VTIMEZONE
BEGIN:VEVENT
DTSTART;TZID=America/Los_Angeles:20250524T100000
DTEND;TZID=America/Los_Angeles:20250524T223000
DTSTAMP:20260424T021358
CREATED:20250312T021655Z
LAST-MODIFIED:20250312T061422Z
UID:1752-1748080800-1748125800@www.tobstrong.com
SUMMARY:Stillness Session - Guided Meditation
DESCRIPTION:Stillness Sessions =  Because rest is just as important as movement. \nIn this soothing session\, we’ll gently guide you through a variety of breathing exercises and meditation practices\, accompanied by soft\, calming sounds that will elevate your experience. 🎶🕊️ Whether you like to meditate with your camera on or off\, this class is all about creating a space of comfort and relaxation in your body. \n\n\n\n\n\nBenefits of Stillness-\n\n\nReduced stress and anxiety. \nIncreased clarity and focus. \nEnhanced self-awareness. \nGreater emotional regulation.\nA deeper sense of connection to yourself and the world around you. 
URL:https://www.tobstrong.com/events/stillness-session2/
LOCATION:Zoom
END:VEVENT
END:VCALENDAR